BEGIN:VCALENDAR
VERSION:2.0
PRODID:-//Lake Jennings - ECPv6.15.20//NONSGML v1.0//EN
CALSCALE:GREGORIAN
METHOD:PUBLISH
X-WR-CALNAME:Lake Jennings
X-ORIGINAL-URL:https://lakejennings.org
X-WR-CALDESC:Events for Lake Jennings
REFRESH-INTERVAL;VALUE=DURATION:PT1H
X-Robots-Tag:noindex
X-PUBLISHED-TTL:PT1H
BEGIN:VTIMEZONE
TZID:America/Los_Angeles
BEGIN:DAYLIGHT
TZOFFSETFROM:-0800
TZOFFSETTO:-0700
TZNAME:PDT
DTSTART:20250309T100000
END:DAYLIGHT
BEGIN:STANDARD
TZOFFSETFROM:-0700
TZOFFSETTO:-0800
TZNAME:PST
DTSTART:20251102T090000
END:STANDARD
BEGIN:DAYLIGHT
TZOFFSETFROM:-0800
TZOFFSETTO:-0700
TZNAME:PDT
DTSTART:20260308T100000
END:DAYLIGHT
BEGIN:STANDARD
TZOFFSETFROM:-0700
TZOFFSETTO:-0800
TZNAME:PST
DTSTART:20261101T090000
END:STANDARD
BEGIN:DAYLIGHT
TZOFFSETFROM:-0800
TZOFFSETTO:-0700
TZNAME:PDT
DTSTART:20270314T100000
END:DAYLIGHT
BEGIN:STANDARD
TZOFFSETFROM:-0700
TZOFFSETTO:-0800
TZNAME:PST
DTSTART:20271107T090000
END:STANDARD
END:VTIMEZONE
BEGIN:VEVENT
DTSTART;TZID=America/Los_Angeles:20260427T000000
DTEND;TZID=America/Los_Angeles:20260427T235959
DTSTAMP:20260424T162910
CREATED:20250905T215805Z
LAST-MODIFIED:20260313T231646Z
UID:6662-1777248000-1777334399@lakejennings.org
SUMMARY:Week of Trout Stocking
DESCRIPTION:
URL:https://lakejennings.org/event/week-of-trout-stocking-54/
LOCATION:Lake\, 9535 Harritt Road\, Lakeside\, CA\, 92040\, United States
END:VEVENT
BEGIN:VEVENT
DTSTART;TZID=America/Los_Angeles:20260516T060000
DTEND;TZID=America/Los_Angeles:20260516T220000
DTSTAMP:20260424T162910
CREATED:20260408T164704Z
LAST-MODIFIED:20260408T164708Z
UID:6889-1778911200-1778968800@lakejennings.org
SUMMARY:New Moon Fishing
DESCRIPTION:
URL:https://lakejennings.org/event/new-moon-fishing-38/
LOCATION:Lake\, 9535 Harritt Road\, Lakeside\, CA\, 92040\, United States
END:VEVENT
BEGIN:VEVENT
DTSTART;TZID=America/Los_Angeles:20260516T180000
DTEND;TZID=America/Los_Angeles:20260516T210000
DTSTAMP:20260424T162910
CREATED:20260408T164922Z
LAST-MODIFIED:20260408T173937Z
UID:6892-1778954400-1778965200@lakejennings.org
SUMMARY:Fireside by the Lake
DESCRIPTION:
URL:https://lakejennings.org/event/fireside-by-the-lake-12/
LOCATION:Lake\, 9535 Harritt Road\, Lakeside\, CA\, 92040\, United States
END:VEVENT
BEGIN:VEVENT
DTSTART;TZID=America/Los_Angeles:20260518T000000
DTEND;TZID=America/Los_Angeles:20260518T235959
DTSTAMP:20260424T162910
CREATED:20260423T221737Z
LAST-MODIFIED:20260423T221739Z
UID:6955-1779062400-1779148799@lakejennings.org
SUMMARY:Week of Catfish Stocking
DESCRIPTION:
URL:https://lakejennings.org/event/week-of-catfish-stocking-33/
LOCATION:Lake\, 9535 Harritt Road\, Lakeside\, CA\, 92040\, United States
END:VEVENT
BEGIN:VEVENT
DTSTART;TZID=America/Los_Angeles:20260522T060000
DTEND;TZID=America/Los_Angeles:20260525T190000
DTSTAMP:20260424T162910
CREATED:20260408T181135Z
LAST-MODIFIED:20260408T203821Z
UID:6898-1779429600-1779735600@lakejennings.org
SUMMARY:Catfish Season Opener
DESCRIPTION:
URL:https://lakejennings.org/event/catfish-season-opener/
LOCATION:Lake\, 9535 Harritt Road\, Lakeside\, CA\, 92040\, United States
ATTACH;FMTTYPE=image/jpeg:https://lakejennings.org/wp-content/uploads/2026/04/Catfish-Opener-2-Slider.jpeg
END:VEVENT
BEGIN:VEVENT
DTSTART;TZID=America/Los_Angeles:20260525T060000
DTEND;TZID=America/Los_Angeles:20260525T190000
DTSTAMP:20260424T162910
CREATED:20260408T203705Z
LAST-MODIFIED:20260408T203707Z
UID:6901-1779688800-1779735600@lakejennings.org
SUMMARY:Memorial Day
DESCRIPTION:
URL:https://lakejennings.org/event/memorial-day-2/
LOCATION:Lake\, 9535 Harritt Road\, Lakeside\, CA\, 92040\, United States
END:VEVENT
BEGIN:VEVENT
DTSTART;TZID=America/Los_Angeles:20260608T000000
DTEND;TZID=America/Los_Angeles:20260608T235959
DTSTAMP:20260424T162910
CREATED:20260424T213146Z
LAST-MODIFIED:20260424T220435Z
UID:6961-1780876800-1780963199@lakejennings.org
SUMMARY:Week of Catfish Stocking
DESCRIPTION:
URL:https://lakejennings.org/event/catfish-stocking-schedule/
LOCATION:Lake\, 9535 Harritt Road\, Lakeside\, CA\, 92040\, United States
END:VEVENT
BEGIN:VEVENT
DTSTART;TZID=America/Los_Angeles:20260706T000000
DTEND;TZID=America/Los_Angeles:20260706T235959
DTSTAMP:20260424T162910
CREATED:20260424T213429Z
LAST-MODIFIED:20260424T213431Z
UID:6963-1783296000-1783382399@lakejennings.org
SUMMARY:Week of Catfish Stocking
DESCRIPTION:
URL:https://lakejennings.org/event/week-of-catfish-stocking-34/
LOCATION:Lake\, 9535 Harritt Road\, Lakeside\, CA\, 92040\, United States
END:VEVENT
BEGIN:VEVENT
DTSTART;TZID=America/Los_Angeles:20260727T000000
DTEND;TZID=America/Los_Angeles:20260727T235959
DTSTAMP:20260424T162910
CREATED:20260424T213601Z
LAST-MODIFIED:20260424T213603Z
UID:6965-1785110400-1785196799@lakejennings.org
SUMMARY:Week of Catfish Stocking
DESCRIPTION:
URL:https://lakejennings.org/event/week-of-catfish-stocking-35/
LOCATION:Lake\, 9535 Harritt Road\, Lakeside\, CA\, 92040\, United States
END:VEVENT
BEGIN:VEVENT
DTSTART;TZID=America/Los_Angeles:20260817T000000
DTEND;TZID=America/Los_Angeles:20260817T235959
DTSTAMP:20260424T162910
CREATED:20260424T213852Z
LAST-MODIFIED:20260424T213854Z
UID:6968-1786924800-1787011199@lakejennings.org
SUMMARY:Week of Catfish Stocking
DESCRIPTION:
URL:https://lakejennings.org/event/week-of-catfish-stocking-36/
LOCATION:Lake\, 9535 Harritt Road\, Lakeside\, CA\, 92040\, United States
END:VEVENT
BEGIN:VEVENT
DTSTART;TZID=America/Los_Angeles:20260907T000000
DTEND;TZID=America/Los_Angeles:20260907T235959
DTSTAMP:20260424T162910
CREATED:20260424T214035Z
LAST-MODIFIED:20260424T214143Z
UID:6970-1788739200-1788825599@lakejennings.org
SUMMARY:Week of Catfish Stocking
DESCRIPTION:
URL:https://lakejennings.org/event/week-of-catfish-stocking-37/
LOCATION:Lake\, 9535 Harritt Road\, Lakeside\, CA\, 92040\, United States
END:VEVENT
BEGIN:VEVENT
DTSTART;TZID=America/Los_Angeles:20260928T000000
DTEND;TZID=America/Los_Angeles:20260928T235959
DTSTAMP:20260424T162910
CREATED:20260424T214411Z
LAST-MODIFIED:20260424T214412Z
UID:6973-1790553600-1790639999@lakejennings.org
SUMMARY:Week of Catfish Stocking
DESCRIPTION:
URL:https://lakejennings.org/event/week-of-catfish-stocking-38/
LOCATION:Lake\, 9535 Harritt Road\, Lakeside\, CA\, 92040\, United States
END:VEVENT
BEGIN:VEVENT
DTSTART;TZID=America/Los_Angeles:20261019T000000
DTEND;TZID=America/Los_Angeles:20261019T235959
DTSTAMP:20260424T162910
CREATED:20260424T214602Z
LAST-MODIFIED:20260424T214604Z
UID:6975-1792368000-1792454399@lakejennings.org
SUMMARY:Week of Catfish Stocking
DESCRIPTION:
URL:https://lakejennings.org/event/week-of-catfish-stocking-39/
LOCATION:Lake\, 9535 Harritt Road\, Lakeside\, CA\, 92040\, United States
END:VEVENT
END:VCALENDAR