BEGIN:VCALENDAR
VERSION:2.0
PRODID:-//Lake Jennings - ECPv6.15.20//NONSGML v1.0//EN
CALSCALE:GREGORIAN
METHOD:PUBLISH
X-WR-CALNAME:Lake Jennings
X-ORIGINAL-URL:https://lakejennings.org
X-WR-CALDESC:Events for Lake Jennings
REFRESH-INTERVAL;VALUE=DURATION:PT1H
X-Robots-Tag:noindex
X-PUBLISHED-TTL:PT1H
BEGIN:VTIMEZONE
TZID:America/Los_Angeles
BEGIN:DAYLIGHT
TZOFFSETFROM:-0800
TZOFFSETTO:-0700
TZNAME:PDT
DTSTART:20220313T100000
END:DAYLIGHT
BEGIN:STANDARD
TZOFFSETFROM:-0700
TZOFFSETTO:-0800
TZNAME:PST
DTSTART:20221106T090000
END:STANDARD
BEGIN:DAYLIGHT
TZOFFSETFROM:-0800
TZOFFSETTO:-0700
TZNAME:PDT
DTSTART:20230312T100000
END:DAYLIGHT
BEGIN:STANDARD
TZOFFSETFROM:-0700
TZOFFSETTO:-0800
TZNAME:PST
DTSTART:20231105T090000
END:STANDARD
BEGIN:DAYLIGHT
TZOFFSETFROM:-0800
TZOFFSETTO:-0700
TZNAME:PDT
DTSTART:20240310T100000
END:DAYLIGHT
BEGIN:STANDARD
TZOFFSETFROM:-0700
TZOFFSETTO:-0800
TZNAME:PST
DTSTART:20241103T090000
END:STANDARD
END:VTIMEZONE
BEGIN:VEVENT
DTSTART;TZID=America/Los_Angeles:20230819T110000
DTEND;TZID=America/Los_Angeles:20230819T140000
DTSTAMP:20260423T141912
CREATED:20230723T011211Z
LAST-MODIFIED:20230723T011212Z
UID:4755-1692442800-1692453600@lakejennings.org
SUMMARY:Fireside by the Lake
DESCRIPTION:Ask about our discount for multiple firepit rentals!
URL:https://lakejennings.org/event/fireside-by-the-lake-3/
LOCATION:Lake\, 9535 Harritt Road\, Lakeside\, CA\, 92040\, United States
ATTACH;FMTTYPE=image/jpeg:https://lakejennings.org/wp-content/uploads/2023/07/August-Fireside-2023.jpg
END:VEVENT
BEGIN:VEVENT
DTSTART;TZID=America/Los_Angeles:20230820T170000
DTEND;TZID=America/Los_Angeles:20230821T165959
DTSTAMP:20260423T141912
CREATED:20230504T061631Z
LAST-MODIFIED:20230504T061632Z
UID:4642-1692550800-1692637199@lakejennings.org
SUMMARY:Week of Catfish Stocking
DESCRIPTION:
URL:https://lakejennings.org/event/week-of-catfish-stocking-14/
LOCATION:Lake\, 9535 Harritt Road\, Lakeside\, CA\, 92040\, United States
END:VEVENT
END:VCALENDAR