BEGIN:VCALENDAR
VERSION:2.0
PRODID:-//Lake Jennings - ECPv6.15.20//NONSGML v1.0//EN
CALSCALE:GREGORIAN
METHOD:PUBLISH
X-WR-CALNAME:Lake Jennings
X-ORIGINAL-URL:https://lakejennings.org
X-WR-CALDESC:Events for Lake Jennings
REFRESH-INTERVAL;VALUE=DURATION:PT1H
X-Robots-Tag:noindex
X-PUBLISHED-TTL:PT1H
BEGIN:VTIMEZONE
TZID:America/Los_Angeles
BEGIN:DAYLIGHT
TZOFFSETFROM:-0800
TZOFFSETTO:-0700
TZNAME:PDT
DTSTART:20220313T100000
END:DAYLIGHT
BEGIN:STANDARD
TZOFFSETFROM:-0700
TZOFFSETTO:-0800
TZNAME:PST
DTSTART:20221106T090000
END:STANDARD
BEGIN:DAYLIGHT
TZOFFSETFROM:-0800
TZOFFSETTO:-0700
TZNAME:PDT
DTSTART:20230312T100000
END:DAYLIGHT
BEGIN:STANDARD
TZOFFSETFROM:-0700
TZOFFSETTO:-0800
TZNAME:PST
DTSTART:20231105T090000
END:STANDARD
BEGIN:DAYLIGHT
TZOFFSETFROM:-0800
TZOFFSETTO:-0700
TZNAME:PDT
DTSTART:20240310T100000
END:DAYLIGHT
BEGIN:STANDARD
TZOFFSETFROM:-0700
TZOFFSETTO:-0800
TZNAME:PST
DTSTART:20241103T090000
END:STANDARD
END:VTIMEZONE
BEGIN:VEVENT
DTSTART;TZID=America/Los_Angeles:20230903T230000
DTEND;TZID=America/Los_Angeles:20230904T100000
DTSTAMP:20260423T162929
CREATED:20230723T024557Z
LAST-MODIFIED:20230723T024558Z
UID:4758-1693782000-1693821600@lakejennings.org
SUMMARY:Lake Open Labor Day
DESCRIPTION:Bookend your summer at the lake! Fishing and boating will be available as well as picnicking\, hiking\, bird watching and more.
URL:https://lakejennings.org/event/lake-open-labor-day/
LOCATION:Lake\, 9535 Harritt Road\, Lakeside\, CA\, 92040\, United States
END:VEVENT
BEGIN:VEVENT
DTSTART;TZID=America/Los_Angeles:20230910T170000
DTEND;TZID=America/Los_Angeles:20230911T165959
DTSTAMP:20260423T162929
CREATED:20230504T061824Z
LAST-MODIFIED:20230504T061824Z
UID:4644-1694365200-1694451599@lakejennings.org
SUMMARY:Week of Catfish Stocking
DESCRIPTION:
URL:https://lakejennings.org/event/week-of-catfish-stocking-15/
LOCATION:Lake\, 9535 Harritt Road\, Lakeside\, CA\, 92040\, United States
END:VEVENT
BEGIN:VEVENT
DTSTART;TZID=America/Los_Angeles:20230916T110000
DTEND;TZID=America/Los_Angeles:20230916T140000
DTSTAMP:20260423T162929
CREATED:20230826T041704Z
LAST-MODIFIED:20230826T062440Z
UID:4788-1694862000-1694872800@lakejennings.org
SUMMARY:Fireside by the Lake - Lakefront Firepit Rentals
DESCRIPTION:Bring your favorite peeps to the lake for a fun evening by one of our lakefront firepits! Ask about our discount for multiple firepit rentals. Firepits will not be available to rent in November and December. Rent one before the new year!
URL:https://lakejennings.org/event/fireside-by-the-lake-lakefront-firepit-rentals/
LOCATION:Lake\, 9535 Harritt Road\, Lakeside\, CA\, 92040\, United States
END:VEVENT
BEGIN:VEVENT
DTSTART;TZID=America/Los_Angeles:20230924T170000
DTEND;TZID=America/Los_Angeles:20230925T165959
DTSTAMP:20260423T162929
CREATED:20230504T061941Z
LAST-MODIFIED:20230504T061942Z
UID:4646-1695574800-1695661199@lakejennings.org
SUMMARY:Week of Catfish Stocking
DESCRIPTION:
URL:https://lakejennings.org/event/week-of-catfish-stocking-16/
LOCATION:Lake\, 9535 Harritt Road\, Lakeside\, CA\, 92040\, United States
END:VEVENT
END:VCALENDAR