BEGIN:VCALENDAR
VERSION:2.0
PRODID:-//Lake Jennings - ECPv6.15.20//NONSGML v1.0//EN
CALSCALE:GREGORIAN
METHOD:PUBLISH
X-WR-CALNAME:Lake Jennings
X-ORIGINAL-URL:https://lakejennings.org
X-WR-CALDESC:Events for Lake Jennings
REFRESH-INTERVAL;VALUE=DURATION:PT1H
X-Robots-Tag:noindex
X-PUBLISHED-TTL:PT1H
BEGIN:VTIMEZONE
TZID:America/Los_Angeles
BEGIN:DAYLIGHT
TZOFFSETFROM:-0800
TZOFFSETTO:-0700
TZNAME:PDT
DTSTART:20240310T100000
END:DAYLIGHT
BEGIN:STANDARD
TZOFFSETFROM:-0700
TZOFFSETTO:-0800
TZNAME:PST
DTSTART:20241103T090000
END:STANDARD
BEGIN:DAYLIGHT
TZOFFSETFROM:-0800
TZOFFSETTO:-0700
TZNAME:PDT
DTSTART:20250309T100000
END:DAYLIGHT
BEGIN:STANDARD
TZOFFSETFROM:-0700
TZOFFSETTO:-0800
TZNAME:PST
DTSTART:20251102T090000
END:STANDARD
BEGIN:DAYLIGHT
TZOFFSETFROM:-0800
TZOFFSETTO:-0700
TZNAME:PDT
DTSTART:20260308T100000
END:DAYLIGHT
BEGIN:STANDARD
TZOFFSETFROM:-0700
TZOFFSETTO:-0800
TZNAME:PST
DTSTART:20261101T090000
END:STANDARD
END:VTIMEZONE
BEGIN:VEVENT
DTSTART;TZID=America/Los_Angeles:20250703T060000
DTEND;TZID=America/Los_Angeles:20250703T170000
DTSTAMP:20260424T005033
CREATED:20250702T235051Z
LAST-MODIFIED:20250702T235056Z
UID:6450-1751522400-1751562000@lakejennings.org
SUMMARY:Throwback Thursdays
DESCRIPTION:Whether you’re after catfish\, bass\, or just some peaceful lake time\, Thursdays are your day to cast away without breaking the bank.
URL:https://lakejennings.org/event/throwback-thursdays/
LOCATION:Lake\, 9535 Harritt Road\, Lakeside\, CA\, 92040\, United States
END:VEVENT
BEGIN:VEVENT
DTSTART;TZID=America/Los_Angeles:20250704T060000
DTEND;TZID=America/Los_Angeles:20250704T170000
DTSTAMP:20260424T005033
CREATED:20250605T173723Z
LAST-MODIFIED:20250605T173725Z
UID:6407-1751608800-1751648400@lakejennings.org
SUMMARY:Lake Open July 4th
DESCRIPTION:
URL:https://lakejennings.org/event/lake-open-july-4th-3/
LOCATION:Lake\, 9535 Harritt Road\, Lakeside\, CA\, 92040\, United States
END:VEVENT
BEGIN:VEVENT
DTSTART;TZID=America/Los_Angeles:20250707T000000
DTEND;TZID=America/Los_Angeles:20250707T235959
DTSTAMP:20260424T005033
CREATED:20250503T203750Z
LAST-MODIFIED:20250503T203751Z
UID:6331-1751846400-1751932799@lakejennings.org
SUMMARY:Week of Catfish Stocking
DESCRIPTION:
URL:https://lakejennings.org/event/week-of-catfish-stocking-27/
LOCATION:Lake\, 9535 Harritt Road\, Lakeside\, CA\, 92040\, United States
END:VEVENT
BEGIN:VEVENT
DTSTART;TZID=America/Los_Angeles:20250710T060000
DTEND;TZID=America/Los_Angeles:20250710T170000
DTSTAMP:20260424T005033
CREATED:20250702T235315Z
LAST-MODIFIED:20250702T235319Z
UID:6453-1752127200-1752166800@lakejennings.org
SUMMARY:Throwback Thursdays
DESCRIPTION:Whether you’re after catfish\, bass\, or just some peaceful lake time\, Thursdays are your day to cast away without breaking the bank.
URL:https://lakejennings.org/event/throwback-thursdays-2/
LOCATION:Lake\, 9535 Harritt Road\, Lakeside\, CA\, 92040\, United States
END:VEVENT
BEGIN:VEVENT
DTSTART;TZID=America/Los_Angeles:20250717T060000
DTEND;TZID=America/Los_Angeles:20250717T170000
DTSTAMP:20260424T005033
CREATED:20250702T235428Z
LAST-MODIFIED:20250702T235431Z
UID:6455-1752732000-1752771600@lakejennings.org
SUMMARY:Throwback Thursdays
DESCRIPTION:Whether you’re after catfish\, bass\, or just some peaceful lake time\, Thursdays are your day to cast away without breaking the bank.
URL:https://lakejennings.org/event/throwback-thursdays-3/
LOCATION:Lake\, 9535 Harritt Road\, Lakeside\, CA\, 92040\, United States
END:VEVENT
BEGIN:VEVENT
DTSTART;TZID=America/Los_Angeles:20250724T060000
DTEND;TZID=America/Los_Angeles:20250724T170000
DTSTAMP:20260424T005033
CREATED:20250702T235533Z
LAST-MODIFIED:20250702T235535Z
UID:6457-1753336800-1753376400@lakejennings.org
SUMMARY:Throwback Thursdays
DESCRIPTION:Whether you’re after catfish\, bass\, or just some peaceful lake time\, Thursdays are your day to cast away without breaking the bank.
URL:https://lakejennings.org/event/throwback-thursdays-4/
LOCATION:Lake\, 9535 Harritt Road\, Lakeside\, CA\, 92040\, United States
END:VEVENT
BEGIN:VEVENT
DTSTART;TZID=America/Los_Angeles:20250726T180000
DTEND;TZID=America/Los_Angeles:20250726T210000
DTSTAMP:20260424T005033
CREATED:20250627T221745Z
LAST-MODIFIED:20250627T221748Z
UID:6439-1753552800-1753563600@lakejennings.org
SUMMARY:Lakefront Firepit Rentals
DESCRIPTION:
URL:https://lakejennings.org/event/lakefront-firepit-rentals-13/
LOCATION:Lake\, 9535 Harritt Road\, Lakeside\, CA\, 92040\, United States
END:VEVENT
BEGIN:VEVENT
DTSTART;TZID=America/Los_Angeles:20250728T000000
DTEND;TZID=America/Los_Angeles:20250728T235959
DTSTAMP:20260424T005033
CREATED:20250503T203851Z
LAST-MODIFIED:20250503T203852Z
UID:6333-1753660800-1753747199@lakejennings.org
SUMMARY:Week of Catfish Stocking
DESCRIPTION:
URL:https://lakejennings.org/event/week-of-catfish-stocking-28/
LOCATION:Lake\, 9535 Harritt Road\, Lakeside\, CA\, 92040\, United States
END:VEVENT
BEGIN:VEVENT
DTSTART;TZID=America/Los_Angeles:20250731T060000
DTEND;TZID=America/Los_Angeles:20250731T170000
DTSTAMP:20260424T005033
CREATED:20250702T235636Z
LAST-MODIFIED:20250702T235637Z
UID:6459-1753941600-1753981200@lakejennings.org
SUMMARY:Throwback Thursdays
DESCRIPTION:Whether you’re after catfish\, bass\, or just some peaceful lake time\, Thursdays are your day to cast away without breaking the bank.
URL:https://lakejennings.org/event/throwback-thursdays-5/
LOCATION:Lake\, 9535 Harritt Road\, Lakeside\, CA\, 92040\, United States
END:VEVENT
END:VCALENDAR