BEGIN:VCALENDAR
VERSION:2.0
PRODID:-//Lake Jennings - ECPv6.15.20//NONSGML v1.0//EN
CALSCALE:GREGORIAN
METHOD:PUBLISH
X-ORIGINAL-URL:https://lakejennings.org
X-WR-CALDESC:Events for Lake Jennings
REFRESH-INTERVAL;VALUE=DURATION:PT1H
X-Robots-Tag:noindex
X-PUBLISHED-TTL:PT1H
BEGIN:VTIMEZONE
TZID:America/Los_Angeles
BEGIN:DAYLIGHT
TZOFFSETFROM:-0800
TZOFFSETTO:-0700
TZNAME:PDT
DTSTART:20250309T100000
END:DAYLIGHT
BEGIN:STANDARD
TZOFFSETFROM:-0700
TZOFFSETTO:-0800
TZNAME:PST
DTSTART:20251102T090000
END:STANDARD
BEGIN:DAYLIGHT
TZOFFSETFROM:-0800
TZOFFSETTO:-0700
TZNAME:PDT
DTSTART:20260308T100000
END:DAYLIGHT
BEGIN:STANDARD
TZOFFSETFROM:-0700
TZOFFSETTO:-0800
TZNAME:PST
DTSTART:20261101T090000
END:STANDARD
BEGIN:DAYLIGHT
TZOFFSETFROM:-0800
TZOFFSETTO:-0700
TZNAME:PDT
DTSTART:20270314T100000
END:DAYLIGHT
BEGIN:STANDARD
TZOFFSETFROM:-0700
TZOFFSETTO:-0800
TZNAME:PST
DTSTART:20271107T090000
END:STANDARD
END:VTIMEZONE
BEGIN:VEVENT
DTSTART;TZID=America/Los_Angeles:20260302T000000
DTEND;TZID=America/Los_Angeles:20260302T235959
DTSTAMP:20260423T084626
CREATED:20250905T215329Z
LAST-MODIFIED:20250905T215330Z
UID:6654-1772409600-1772495999@lakejennings.org
SUMMARY:Week of Trout Stocking
DESCRIPTION:
URL:https://lakejennings.org/event/week-of-trout-stocking-50/
LOCATION:Lake\, 9535 Harritt Road\, Lakeside\, CA\, 92040\, United States
END:VEVENT
BEGIN:VEVENT
DTSTART;TZID=America/Los_Angeles:20260321T060000
DTEND;TZID=America/Los_Angeles:20260321T220000
DTSTAMP:20260423T084626
CREATED:20260204T225453Z
LAST-MODIFIED:20260204T230148Z
UID:6773-1774072800-1774130400@lakejennings.org
SUMMARY:New Moon Fishing
DESCRIPTION:
URL:https://lakejennings.org/event/new-moon-fishing-36/
LOCATION:Lake\, 9535 Harritt Road\, Lakeside\, CA\, 92040\, United States
END:VEVENT
BEGIN:VEVENT
DTSTART;TZID=America/Los_Angeles:20260321T180000
DTEND;TZID=America/Los_Angeles:20260321T210000
DTSTAMP:20260423T084626
CREATED:20260204T225707Z
LAST-MODIFIED:20260314T171034Z
UID:6776-1774116000-1774126800@lakejennings.org
SUMMARY:Fireside by the Lake
DESCRIPTION:
URL:https://lakejennings.org/event/fireside-by-the-lake-10/
LOCATION:Lake\, 9535 Harritt Road\, Lakeside\, CA\, 92040\, United States
ATTACH;FMTTYPE=image/jpeg:https://lakejennings.org/wp-content/uploads/2026/02/Firepit-Rentals-2-Slider-1.jpeg
END:VEVENT
BEGIN:VEVENT
DTSTART;TZID=America/Los_Angeles:20260323T000000
DTEND;TZID=America/Los_Angeles:20260323T235959
DTSTAMP:20260423T084626
CREATED:20250905T215440Z
LAST-MODIFIED:20260313T231306Z
UID:6656-1774224000-1774310399@lakejennings.org
SUMMARY:Week of Trout Stocking
DESCRIPTION:
URL:https://lakejennings.org/event/week-of-trout-stocking-51/
LOCATION:Lake\, 9535 Harritt Road\, Lakeside\, CA\, 92040\, United States
END:VEVENT
BEGIN:VEVENT
DTSTART;TZID=America/Los_Angeles:20260327T060000
DTEND;TZID=America/Los_Angeles:20260412T190000
DTSTAMP:20260423T084626
CREATED:20260219T003312Z
LAST-MODIFIED:20260219T003611Z
UID:6783-1774591200-1776020400@lakejennings.org
SUMMARY:Spring Break - Lake Open Daily
DESCRIPTION:
URL:https://lakejennings.org/event/spring-break-lake-open-daily/
LOCATION:Lake\, 9535 Harritt Road\, Lakeside\, CA\, 92040\, United States
END:VEVENT
BEGIN:VEVENT
DTSTART;TZID=America/Los_Angeles:20260330T000000
DTEND;TZID=America/Los_Angeles:20260330T235959
DTSTAMP:20260423T084626
CREATED:20250905T215552Z
LAST-MODIFIED:20260313T231358Z
UID:6658-1774828800-1774915199@lakejennings.org
SUMMARY:Week of Trout Stocking
DESCRIPTION:
URL:https://lakejennings.org/event/week-of-trout-stocking-52/
LOCATION:Lake\, 9535 Harritt Road\, Lakeside\, CA\, 92040\, United States
END:VEVENT
END:VCALENDAR